BEGIN:VCALENDAR
VERSION:2.0
PRODID:-//Industrieverband Klebstoffe e.V. - ECPv6.15.20//NONSGML v1.0//EN
CALSCALE:GREGORIAN
METHOD:PUBLISH
X-ORIGINAL-URL:https://www.klebstoffe.com
X-WR-CALDESC:Veranstaltungen für Industrieverband Klebstoffe e.V.
REFRESH-INTERVAL;VALUE=DURATION:PT1H
X-Robots-Tag:noindex
X-PUBLISHED-TTL:PT1H
BEGIN:VTIMEZONE
TZID:Europe/Berlin
BEGIN:DAYLIGHT
TZOFFSETFROM:+0100
TZOFFSETTO:+0200
TZNAME:CEST
DTSTART:20250330T010000
END:DAYLIGHT
BEGIN:STANDARD
TZOFFSETFROM:+0200
TZOFFSETTO:+0100
TZNAME:CET
DTSTART:20251026T010000
END:STANDARD
BEGIN:DAYLIGHT
TZOFFSETFROM:+0100
TZOFFSETTO:+0200
TZNAME:CEST
DTSTART:20260329T010000
END:DAYLIGHT
BEGIN:STANDARD
TZOFFSETFROM:+0200
TZOFFSETTO:+0100
TZNAME:CET
DTSTART:20261025T010000
END:STANDARD
BEGIN:DAYLIGHT
TZOFFSETFROM:+0100
TZOFFSETTO:+0200
TZNAME:CEST
DTSTART:20270328T010000
END:DAYLIGHT
BEGIN:STANDARD
TZOFFSETFROM:+0200
TZOFFSETTO:+0100
TZNAME:CET
DTSTART:20271031T010000
END:STANDARD
END:VTIMEZONE
BEGIN:VEVENT
DTSTART;VALUE=DATE:20260527
DTEND;VALUE=DATE:20260530
DTSTAMP:20260421T125526
CREATED:20231201T101023Z
LAST-MODIFIED:20251218T083800Z
UID:10000019-1779840000-1780099199@www.klebstoffe.com
SUMMARY:Jahrestagung des IVK
DESCRIPTION:Nur für Mitglieder
URL:https://www.klebstoffe.com/veranstaltung/jahrestagung-des-ivk/
LOCATION:Hamburg
CATEGORIES:IVK Veranstaltung
ATTACH;FMTTYPE=image/jpeg:https://www.klebstoffe.com/wp-content/uploads/2021/10/IVK_Logo_Veranstaltungskalender.jpg
END:VEVENT
BEGIN:VEVENT
DTSTART;VALUE=DATE:20260602
DTEND;VALUE=DATE:20260604
DTSTAMP:20260421T125526
CREATED:20260115T100038Z
LAST-MODIFIED:20260115T100038Z
UID:10000117-1780358400-1780531199@www.klebstoffe.com
SUMMARY:6. Branchentreff Klebstoffformulierung
DESCRIPTION:
URL:https://www.klebstoffe.com/veranstaltung/6-branchentreff-klebstoffformulierung/
LOCATION:Bremen
CATEGORIES:Externe Veranstaltung
ATTACH;FMTTYPE=image/jpeg:https://www.klebstoffe.com/wp-content/uploads/2021/08/Fraunhofer-IFAM_Veranstaltungstermine.jpg
END:VEVENT
BEGIN:VEVENT
DTSTART;VALUE=DATE:20260625
DTEND;VALUE=DATE:20260627
DTSTAMP:20260421T125526
CREATED:20260115T100338Z
LAST-MODIFIED:20260115T100338Z
UID:10000118-1782345600-1782518399@www.klebstoffe.com
SUMMARY:24. Bremer Klebtage 2025
DESCRIPTION:
URL:https://www.klebstoffe.com/veranstaltung/24-bremer-klebtage-2025/
LOCATION:Bremen
CATEGORIES:Externe Veranstaltung
ATTACH;FMTTYPE=image/jpeg:https://www.klebstoffe.com/wp-content/uploads/2021/08/Fraunhofer-IFAM_Veranstaltungstermine.jpg
END:VEVENT
BEGIN:VEVENT
DTSTART;VALUE=DATE:20260916
DTEND;VALUE=DATE:20260919
DTSTAMP:20260421T125526
CREATED:20260116T085754Z
LAST-MODIFIED:20260116T085754Z
UID:10000119-1789516800-1789775999@www.klebstoffe.com
SUMMARY:World Adhesive & Sealant Conference 2026
DESCRIPTION:
URL:https://www.klebstoffe.com/veranstaltung/world-adhesive-sealant-conference-2026/
LOCATION:London\, United Kingdom
CATEGORIES:Externe Veranstaltung
ATTACH;FMTTYPE=image/jpeg:https://www.klebstoffe.com/wp-content/uploads/2026/01/IVK_Veranstaltungen_Fotos_WAC-2026.jpg
END:VEVENT
BEGIN:VEVENT
DTSTART;VALUE=DATE:20260921
DTEND;VALUE=DATE:20260926
DTSTAMP:20260421T125526
CREATED:20260116T090349Z
LAST-MODIFIED:20260116T090349Z
UID:10000120-1789948800-1790380799@www.klebstoffe.com
SUMMARY:Afera European Tape Week / 69th Annual Conference / 12th Tape College
DESCRIPTION:
URL:https://www.klebstoffe.com/veranstaltung/afera-european-tape-week-69th-annual-conference-12th-tape-college/
LOCATION:Porto\, Portugal
CATEGORIES:Externe Veranstaltung
ATTACH;FMTTYPE=image/jpeg:https://www.klebstoffe.com/wp-content/uploads/2021/12/IVK_Veranstaltungen_Fotos_Logo_Afera.jpg
END:VEVENT
BEGIN:VEVENT
DTSTART;VALUE=DATE:20261026
DTEND;VALUE=DATE:20261029
DTSTAMP:20260421T125526
CREATED:20251114T081004Z
LAST-MODIFIED:20251114T081004Z
UID:10000112-1792972800-1793231999@www.klebstoffe.com
SUMMARY:51. Münchener Klebstoff- und Veredelungs-Symposium 2026
DESCRIPTION:
URL:https://www.klebstoffe.com/veranstaltung/51-muenchener-klebstoff-und-veredelungs-symposium-2026-2/
LOCATION:München
CATEGORIES:Externe Veranstaltung
ATTACH;FMTTYPE=image/jpeg:https://www.klebstoffe.com/wp-content/uploads/2021/08/Muenchener-Klebstoff_und-Veredelungssymposium.jpg
END:VEVENT
BEGIN:VEVENT
DTSTART;VALUE=DATE:20261207
DTEND;VALUE=DATE:20261209
DTSTAMP:20260421T125526
CREATED:20251218T080454Z
LAST-MODIFIED:20251218T080454Z
UID:10000113-1796601600-1796774399@www.klebstoffe.com
SUMMARY:Arbeitskreissitzungen des IVK 2026
DESCRIPTION:Nur für Mitglieder
URL:https://www.klebstoffe.com/veranstaltung/arbeitskreissitzungen-des-ivk-2026-2/
LOCATION:Frankfurt
CATEGORIES:IVK Veranstaltung
ATTACH;FMTTYPE=image/jpeg:https://www.klebstoffe.com/wp-content/uploads/2021/10/IVK_Logo_Veranstaltungskalender.jpg
END:VEVENT
END:VCALENDAR